BEGIN:VCALENDAR
VERSION:2.0
PRODID:-//wp-events-plugin.com//7.2.3.1//EN
TZID:Europe/Amsterdam
X-WR-TIMEZONE:Europe/Amsterdam
BEGIN:VEVENT
UID:278@sgzutphen.nl
DTSTART;TZID=Europe/Amsterdam:20260228T130000
DTEND;TZID=Europe/Amsterdam:20260228T173000
DTSTAMP:20251016T120926Z
URL:https://www.sgzutphen.nl/events/zutphens-schoolschaakkampioenschap/
SUMMARY:Zutphens Schoolschaakkampioenschap
DESCRIPTION:
CATEGORIES:Jeugd
LOCATION:Jenaplanschool De Hoven\, Mulderskamp 164\, Zutphen\, Gelderland\,
  7205 BZ\, Nederland
X-APPLE-STRUCTURED-LOCATION;VALUE=URI;X-ADDRESS=Mulderskamp 164\, Zutphen\,
  Gelderland\, 7205 BZ\, Nederland;X-APPLE-RADIUS=100;X-TITLE=Jenaplanschoo
 l De Hoven:geo:0,0
END:VEVENT
BEGIN:VTIMEZONE
TZID:Europe/Amsterdam
X-LIC-LOCATION:Europe/Amsterdam
BEGIN:STANDARD
DTSTART:20251026T020000
TZOFFSETFROM:+0200
TZOFFSETTO:+0100
TZNAME:CET
END:STANDARD
END:VTIMEZONE
END:VCALENDAR