BEGIN:VCALENDAR
VERSION:2.0
PRODID:-//wp-events-plugin.com//7.2.3.1//EN
TZID:Europe/Amsterdam
X-WR-TIMEZONE:Europe/Amsterdam
BEGIN:VEVENT
UID:188@sgzutphen.nl
DTSTART;TZID=Europe/Amsterdam:20260316T194500
DTEND;TZID=Europe/Amsterdam:20260316T230000
DTSTAMP:20251117T125145Z
URL:https://www.sgzutphen.nl/events/zutphen-2-de-cirkel-1/
SUMMARY:Zutphen 2 - De Cirkel 1
DESCRIPTION:
CATEGORIES:Senioren,SOS team 2
LOCATION:De Uitwijk\, De Brink 116\, Zutphen\, Gelderland\, 7206 KD\, Neder
 land
X-APPLE-STRUCTURED-LOCATION;VALUE=URI;X-ADDRESS=De Brink 116\, Zutphen\, Ge
 lderland\, 7206 KD\, Nederland;X-APPLE-RADIUS=100;X-TITLE=De Uitwijk:geo:0
 ,0
END:VEVENT
BEGIN:VTIMEZONE
TZID:Europe/Amsterdam
X-LIC-LOCATION:Europe/Amsterdam
BEGIN:STANDARD
DTSTART:20251026T020000
TZOFFSETFROM:+0200
TZOFFSETTO:+0100
TZNAME:CET
END:STANDARD
END:VTIMEZONE
END:VCALENDAR