BEGIN:VCALENDAR
VERSION:2.0
PRODID:-//wp-events-plugin.com//7.2.3.1//EN
TZID:Europe/Amsterdam
X-WR-TIMEZONE:Europe/Amsterdam
BEGIN:VEVENT
UID:179@sgzutphen.nl
DTSTART;TZID=Europe/Amsterdam:20260508T193000
DTEND;TZID=Europe/Amsterdam:20260508T224500
DTSTAMP:20260106T135105Z
URL:https://www.sgzutphen.nl/events/zutphen-1-sgz-1/
SUMMARY:Zutphen 1 - SGZ 1
DESCRIPTION:
CATEGORIES:Senioren,SOS team 1
LOCATION:Denksportcentrum Noord\, Sleutelbloemstraat 22A\, Apeldoorn\, Geld
 erland\, Apeldoorn\, Nederland
X-APPLE-STRUCTURED-LOCATION;VALUE=URI;X-ADDRESS=Sleutelbloemstraat 22A\, Ap
 eldoorn\, Gelderland\, Apeldoorn\, Nederland;X-APPLE-RADIUS=100;X-TITLE=De
 nksportcentrum Noord:geo:0,0
END:VEVENT
BEGIN:VTIMEZONE
TZID:Europe/Amsterdam
X-LIC-LOCATION:Europe/Amsterdam
BEGIN:DAYLIGHT
DTSTART:20260329T030000
TZOFFSETFROM:+0100
TZOFFSETTO:+0200
TZNAME:CEST
END:DAYLIGHT
END:VTIMEZONE
END:VCALENDAR