BEGIN:VCALENDAR
VERSION:2.0
PRODID:-//wp-events-plugin.com//7.2.3.1//EN
TZID:Europe/Amsterdam
X-WR-TIMEZONE:Europe/Amsterdam
BEGIN:VEVENT
UID:159@sgzutphen.nl
DTSTART;TZID=Europe/Amsterdam:20250630T200000
DTEND;TZID=Europe/Amsterdam:20250630T230000
DTSTAMP:20250609T142509Z
URL:https://www.sgzutphen.nl/events/simultaan-roel-en-joris/
SUMMARY:Simultaan Roel en Joris
DESCRIPTION:
CATEGORIES:Senioren
LOCATION:De Uitwijk speellokaal Senioren\, De Brink 116\, Zutphen\, Gelderl
 and\, 7206 KD\, Nederland
X-APPLE-STRUCTURED-LOCATION;VALUE=URI;X-ADDRESS=De Brink 116\, Zutphen\, Ge
 lderland\, 7206 KD\, Nederland;X-APPLE-RADIUS=100;X-TITLE=De Uitwijk speel
 lokaal Senioren:geo:0,0
END:VEVENT
BEGIN:VTIMEZONE
TZID:Europe/Amsterdam
X-LIC-LOCATION:Europe/Amsterdam
BEGIN:DAYLIGHT
DTSTART:20250330T030000
TZOFFSETFROM:+0100
TZOFFSETTO:+0200
TZNAME:CEST
END:DAYLIGHT
END:VTIMEZONE
END:VCALENDAR