BEGIN:VCALENDAR
VERSION:2.0
PRODID:-//wp-events-plugin.com//7.2.3.1//EN
TZID:Europe/Amsterdam
X-WR-TIMEZONE:Europe/Amsterdam
BEGIN:VEVENT
UID:174@sgzutphen.nl
DTSTART;TZID=Europe/Amsterdam:20260328T130000
DTEND;TZID=Europe/Amsterdam:20260328T180000
DTSTAMP:20260107T174723Z
URL:https://www.sgzutphen.nl/events/rivierenland-1-zutphen-1/
SUMMARY:Rivierenland 1 - Zutphen 1
DESCRIPTION:
CATEGORIES:KNSB team 1,Senioren
LOCATION:Dorpshuis Tricht\, Prins Johan Frisoplaats 1A\, Tricht\, Gelderlan
 d\, 4196 AC\, 
X-APPLE-STRUCTURED-LOCATION;VALUE=URI;X-ADDRESS=Prins Johan Frisoplaats 1A\
 , Tricht\, Gelderland\, 4196 AC\, ;X-APPLE-RADIUS=100;X-TITLE=Dorpshuis Tr
 icht:geo:0,0
END:VEVENT
BEGIN:VTIMEZONE
TZID:Europe/Amsterdam
X-LIC-LOCATION:Europe/Amsterdam
BEGIN:STANDARD
DTSTART:20251026T020000
TZOFFSETFROM:+0200
TZOFFSETTO:+0100
TZNAME:CET
END:STANDARD
END:VTIMEZONE
END:VCALENDAR