BEGIN:VCALENDAR
VERSION:2.0
PRODID:-//wp-events-plugin.com//7.2.3.1//EN
TZID:Europe/Amsterdam
X-WR-TIMEZONE:Europe/Amsterdam
BEGIN:VEVENT
UID:165@sgzutphen.nl
DTSTART;TZID=Europe/Amsterdam:20251004T130000
DTEND;TZID=Europe/Amsterdam:20251004T180000
DTSTAMP:20250925T105729Z
URL:https://www.sgzutphen.nl/events/pion-mook-2-zutphen-1/
SUMMARY:PION/Mook 2 - Zutphen 1
DESCRIPTION:
CATEGORIES:KNSB team 1,Senioren
LOCATION:De Mallemolen\, Kloosterstraat 11\, Groesbeek\, Gelderland\, 6562 
 AT\, Nederland
X-APPLE-STRUCTURED-LOCATION;VALUE=URI;X-ADDRESS=Kloosterstraat 11\, Groesbe
 ek\, Gelderland\, 6562 AT\, Nederland;X-APPLE-RADIUS=100;X-TITLE=De Mallem
 olen:geo:0,0
END:VEVENT
BEGIN:VTIMEZONE
TZID:Europe/Amsterdam
X-LIC-LOCATION:Europe/Amsterdam
BEGIN:DAYLIGHT
DTSTART:20250330T030000
TZOFFSETFROM:+0100
TZOFFSETTO:+0200
TZNAME:CEST
END:DAYLIGHT
END:VTIMEZONE
END:VCALENDAR