BEGIN:VCALENDAR
VERSION:2.0
PRODID:-//wp-events-plugin.com//7.2.3.1//EN
TZID:Europe/Amsterdam
X-WR-TIMEZONE:Europe/Amsterdam
BEGIN:VEVENT
UID:187@sgzutphen.nl
DTSTART;TZID=Europe/Amsterdam:20251106T194500
DTEND;TZID=Europe/Amsterdam:20251106T230000
DTSTAMP:20250924T084052Z
URL:https://www.sgzutphen.nl/events/opc-1-zutphen-2/
SUMMARY:OPC 1 - Zutphen 2
DESCRIPTION:
CATEGORIES:Senioren,SOS team 2
END:VEVENT
BEGIN:VTIMEZONE
TZID:Europe/Amsterdam
X-LIC-LOCATION:Europe/Amsterdam
BEGIN:STANDARD
DTSTART:20251026T020000
TZOFFSETFROM:+0200
TZOFFSETTO:+0100
TZNAME:CET
END:STANDARD
END:VTIMEZONE
END:VCALENDAR