BEGIN:VCALENDAR
VERSION:2.0
PRODID:-//wp-events-plugin.com//7.2.3.1//EN
TZID:Europe/Amsterdam
X-WR-TIMEZONE:Europe/Amsterdam
BEGIN:VEVENT
UID:171@sgzutphen.nl
DTSTART;TZID=Europe/Amsterdam:20250929T194500
DTEND;TZID=Europe/Amsterdam:20250929T230000
DTSTAMP:20250924T083221Z
URL:https://www.sgzutphen.nl/events/oo-1-zutphen-1/
SUMMARY:O&O 1 - Zutphen 1
DESCRIPTION:
CATEGORIES:Senioren,SOS team 1
LOCATION:Wijkvereniging Reyersdam\, Reijersdijk 2\, Kampen\, 8262 CN\, Nede
 rland
X-APPLE-STRUCTURED-LOCATION;VALUE=URI;X-ADDRESS=Reijersdijk 2\, Kampen\, 82
 62 CN\, Nederland;X-APPLE-RADIUS=100;X-TITLE=Wijkvereniging Reyersdam:geo:
 0,0
END:VEVENT
BEGIN:VTIMEZONE
TZID:Europe/Amsterdam
X-LIC-LOCATION:Europe/Amsterdam
BEGIN:DAYLIGHT
DTSTART:20250330T030000
TZOFFSETFROM:+0100
TZOFFSETTO:+0200
TZNAME:CEST
END:DAYLIGHT
END:VTIMEZONE
END:VCALENDAR