BEGIN:VCALENDAR
VERSION:2.0
PRODID:-//wp-events-plugin.com//7.2.3.1//EN
TZID:Europe/Amsterdam
X-WR-TIMEZONE:Europe/Amsterdam
BEGIN:VEVENT
UID:280@sgzutphen.nl
DTSTART;TZID=Europe/Amsterdam:20251125T194500
DTEND;TZID=Europe/Amsterdam:20251125T230000
DTSTAMP:20251117T124855Z
URL:https://www.sgzutphen.nl/events/max-euwe-1-zutphen-1/
SUMMARY:Max Euwe 1 - Zutphen 1
DESCRIPTION:
CATEGORIES:Senioren,SOS team 1
LOCATION:Het Ni-je Terphoes\, Noordhollandstraat 4\, Enschede\, 7543 WB\, N
 ederland
X-APPLE-STRUCTURED-LOCATION;VALUE=URI;X-ADDRESS=Noordhollandstraat 4\, Ensc
 hede\, 7543 WB\, Nederland;X-APPLE-RADIUS=100;X-TITLE=Het Ni-je Terphoes:g
 eo:0,0
END:VEVENT
BEGIN:VTIMEZONE
TZID:Europe/Amsterdam
X-LIC-LOCATION:Europe/Amsterdam
BEGIN:STANDARD
DTSTART:20251026T020000
TZOFFSETFROM:+0200
TZOFFSETTO:+0100
TZNAME:CET
END:STANDARD
END:VTIMEZONE
END:VCALENDAR