BEGIN:VCALENDAR
VERSION:2.0
PRODID:-//wp-events-plugin.com//7.2.3.1//EN
TZID:Europe/Amsterdam
X-WR-TIMEZONE:Europe/Amsterdam
BEGIN:VEVENT
UID:182@sgzutphen.nl
DTSTART;TZID=Europe/Amsterdam:20260320T194500
DTEND;TZID=Europe/Amsterdam:20260320T230000
DTSTAMP:20260313T105738Z
URL:https://www.sgzutphen.nl/events/lonneker-1-zutphen-1/
SUMMARY:Lonneker 1 - Zutphen 1
DESCRIPTION:
CATEGORIES:Senioren,SOS team 1
LOCATION:IJsclubkantine Lonneker\, Spölminkkamp 45\, Lonneker\, Overijssel
 \, 7524 DV\, 
X-APPLE-STRUCTURED-LOCATION;VALUE=URI;X-ADDRESS=Spölminkkamp 45\, Lonneker
 \, Overijssel\, 7524 DV\, ;X-APPLE-RADIUS=100;X-TITLE=IJsclubkantine Lonne
 ker:geo:0,0
END:VEVENT
BEGIN:VTIMEZONE
TZID:Europe/Amsterdam
X-LIC-LOCATION:Europe/Amsterdam
BEGIN:STANDARD
DTSTART:20251026T020000
TZOFFSETFROM:+0200
TZOFFSETTO:+0100
TZNAME:CET
END:STANDARD
END:VTIMEZONE
END:VCALENDAR