BEGIN:VCALENDAR
VERSION:2.0
PRODID:-//wp-events-plugin.com//7.2.3.1//EN
TZID:Europe/Amsterdam
X-WR-TIMEZONE:Europe/Amsterdam
BEGIN:VEVENT
UID:269@sgzutphen.nl
DTSTART;TZID=Europe/Amsterdam:20251222T194500
DTEND;TZID=Europe/Amsterdam:20251222T230000
DTSTAMP:20250924T152306Z
URL:https://www.sgzutphen.nl/events/kersttoernooi/
SUMMARY:Kersttoernooi (prijsje meenemen)
DESCRIPTION:Kersttoernooi\nspeeltempo:\n5 min. + 3 sec.
CATEGORIES:Senioren,Toernooien
LOCATION:De Uitwijk\, De Brink 116\, Zutphen\, 7206 KD\, Nederland
X-APPLE-STRUCTURED-LOCATION;VALUE=URI;X-ADDRESS=De Brink 116\, Zutphen\, 72
 06 KD\, Nederland;X-APPLE-RADIUS=100;X-TITLE=De Uitwijk:geo:0,0
END:VEVENT
BEGIN:VTIMEZONE
TZID:Europe/Amsterdam
X-LIC-LOCATION:Europe/Amsterdam
BEGIN:STANDARD
DTSTART:20251026T020000
TZOFFSETFROM:+0200
TZOFFSETTO:+0100
TZNAME:CET
END:STANDARD
END:VTIMEZONE
END:VCALENDAR