BEGIN:VCALENDAR
VERSION:2.0
PRODID:-//wp-events-plugin.com//7.2.3.1//EN
TZID:Europe/Amsterdam
X-WR-TIMEZONE:Europe/Amsterdam
BEGIN:VEVENT
UID:194@sgzutphen.nl
DTSTART;TZID=Europe/Amsterdam:20251116T120000
DTEND;TZID=Europe/Amsterdam:20251116T173000
DTSTAMP:20251027T113233Z
URL:https://www.sgzutphen.nl/events/gpzutphen2025/
SUMMARY:Grand Prix Zutphen
DESCRIPTION:Grand Prix Zutphen
CATEGORIES:Grand Prix,Jeugd
LOCATION:Montessorischool de Plotter\, Paulus Potterstraat 4a\, Zutphen\, 7
 204 CV\, Nederland
X-APPLE-STRUCTURED-LOCATION;VALUE=URI;X-ADDRESS=Paulus Potterstraat 4a\, Zu
 tphen\, 7204 CV\, Nederland;X-APPLE-RADIUS=100;X-TITLE=Montessorischool de
  Plotter:geo:0,0
END:VEVENT
BEGIN:VTIMEZONE
TZID:Europe/Amsterdam
X-LIC-LOCATION:Europe/Amsterdam
BEGIN:STANDARD
DTSTART:20251026T020000
TZOFFSETFROM:+0200
TZOFFSETTO:+0100
TZNAME:CET
END:STANDARD
END:VTIMEZONE
END:VCALENDAR