BEGIN:VCALENDAR
VERSION:2.0
PRODID:-//wp-events-plugin.com//7.2.3.1//EN
TZID:Europe/Amsterdam
X-WR-TIMEZONE:Europe/Amsterdam
BEGIN:VEVENT
UID:163@sgzutphen.nl
DTSTART;TZID=Europe/Amsterdam;VALUE=DATE:20251011
DTEND;TZID=Europe/Amsterdam;VALUE=DATE:20251012
DTSTAMP:20250924T083333Z
URL:https://www.sgzutphen.nl/events/berkelstedentoernooi/
SUMMARY:Berkelstedentoernooi
DESCRIPTION:41e Berkelsteden toernooi\n\nOp zaterdag 11 oktober organiseert
  Schaakgenootschap Zutphen het 41e Berkelstedentoernooi.\nHet is een jaarl
 ijks terugkerend toernooi georganiseerd door Nederlandse en Duitse schaakc
 lubs langs de Berkel. Er wordt gespeeld in de Vrijeschool te Zutphen.\n\nA
 anmeldingen:\n\nCoesfeld\, Billerbeck\, Stadtlohn (2 teams)\, Gescher (2 t
 eams)\,\nLochem\, WSG (2 teams) en Zutphen (3 teams).\n\nTijdschema:\n\nEr
  worden 6 ronden Zwitsers gespeeld.\nHet tempo is 20 min. + 5 sec.\n\n09:3
 0 Zaal open\n10:00 Opening\n10:15 Ronde 1\n11:10 Ronde 2\n12:05 Ronde 3\n1
 3:00 Pauze\, warme maaltijd\n14:00 Ronde 4\n14:55 Ronde 5\n15:50 Ronde 6\n
 17:00 prijsuitreiking
ATTACH;FMTTYPE=image/jpeg:https://www.sgzutphen.nl/wp-content/uploads/2025
 /06/Berkelsteden.jpg
CATEGORIES:Jeugd,Senioren,Toernooien
LOCATION:Vrijeschool Zutphen\, De IJsselhank 1\, Zutphen\, Gelderland\, 720
 6 DG\, Nederland
X-APPLE-STRUCTURED-LOCATION;VALUE=URI;X-ADDRESS=De IJsselhank 1\, Zutphen\,
  Gelderland\, 7206 DG\, Nederland;X-APPLE-RADIUS=100;X-TITLE=Vrijeschool Z
 utphen:geo:0,0
END:VEVENT
BEGIN:VTIMEZONE
TZID:Europe/Amsterdam
X-LIC-LOCATION:Europe/Amsterdam
BEGIN:DAYLIGHT
DTSTART:20250330T030000
TZOFFSETFROM:+0100
TZOFFSETTO:+0200
TZNAME:CEST
END:DAYLIGHT
END:VTIMEZONE
END:VCALENDAR