BEGIN:VCALENDAR
VERSION:2.0
PRODID:-//wp-events-plugin.com//7.2.3.1//EN
TZID:Europe/Amsterdam
X-WR-TIMEZONE:Europe/Amsterdam
BEGIN:VEVENT
UID:170@sgzutphen.nl
DTSTART;TZID=Europe/Amsterdam:20251122T130000
DTEND;TZID=Europe/Amsterdam:20251122T180000
DTSTAMP:20251117T104410Z
URL:https://www.sgzutphen.nl/events/asv-6-zutphen-1/
SUMMARY:ASV 6 - Zutphen 1
DESCRIPTION:
CATEGORIES:KNSB team 1,Senioren
LOCATION:Het Pleijwerk\, Vlamoven 22-24\, Arnhem\, Gelderland\, 6826 TN\, N
 ederland
X-APPLE-STRUCTURED-LOCATION;VALUE=URI;X-ADDRESS=Vlamoven 22-24\, Arnhem\, G
 elderland\, 6826 TN\, Nederland;X-APPLE-RADIUS=100;X-TITLE=Het Pleijwerk:g
 eo:0,0
END:VEVENT
BEGIN:VTIMEZONE
TZID:Europe/Amsterdam
X-LIC-LOCATION:Europe/Amsterdam
BEGIN:STANDARD
DTSTART:20251026T020000
TZOFFSETFROM:+0200
TZOFFSETTO:+0100
TZNAME:CET
END:STANDARD
END:VTIMEZONE
END:VCALENDAR