BEGIN:VCALENDAR
VERSION:2.0
PRODID:-//wp-events-plugin.com//7.2.3.1//EN
TZID:Europe/Amsterdam
X-WR-TIMEZONE:Europe/Amsterdam
BEGIN:VEVENT
UID:175@sgzutphen.nl
DTSTART;TZID=Europe/Amsterdam:20260207T130000
DTEND;TZID=Europe/Amsterdam:20260207T180000
DTSTAMP:20260202T151517Z
URL:https://www.sgzutphen.nl/events/asa-2-zutphen-1/
SUMMARY:ASA 2 - Zutphen 1
DESCRIPTION:
CATEGORIES:KNSB team 1,Senioren
LOCATION:Olympus College\, Ingang Zeegsingel\, Arnhem\, Gelderland\, 6832 E
 L\, 
X-APPLE-STRUCTURED-LOCATION;VALUE=URI;X-ADDRESS=Ingang Zeegsingel\, Arnhem\
 , Gelderland\, 6832 EL\, ;X-APPLE-RADIUS=100;X-TITLE=Olympus College:geo:0
 ,0
END:VEVENT
BEGIN:VTIMEZONE
TZID:Europe/Amsterdam
X-LIC-LOCATION:Europe/Amsterdam
BEGIN:STANDARD
DTSTART:20251026T020000
TZOFFSETFROM:+0200
TZOFFSETTO:+0100
TZNAME:CET
END:STANDARD
END:VTIMEZONE
END:VCALENDAR