BEGIN:VCALENDAR
VERSION:2.0
PRODID:-//wp-events-plugin.com//7.2.3.1//EN
TZID:Europe/Amsterdam
X-WR-TIMEZONE:Europe/Amsterdam
BEGIN:VEVENT
UID:279@sgzutphen.nl
DTSTART;TZID=Europe/Amsterdam:20260404T100000
DTEND;TZID=Europe/Amsterdam:20260404T170000
DTSTAMP:20260308T125858Z
URL:https://www.sgzutphen.nl/events/14e-torenstadtoernooi/
SUMMARY:14e Torenstadtoernooi
DESCRIPTION:Programma:\nZaal open 9.30 uur\n8 ronden zwitsers\, 15 min. p.p
 .p.p. + 5 sec. per zet\n1e ronde 10 uur\, einde laatste ronde 16:45 uur\n\
 nPrijsuitreiking:\nVanaf ~17:00 uur\n\nPrijzen:\n1e prijs € 150\,-\, 2e 
 prijs € 100\,-\, 3e prijs € 50\,-\nJeugd- en Ratingprijzen\n\nInschrij
 fgeld:\nVolwassenen € 10\,-\nJeugd tot 18 jaar € 5\,-\n(GM en IM grati
 s)\nBetalen: contant op de toernooi dag\n\nAanmelden:\nsgzutphen@gmail.com
 \nOnder vermelding van naam\, club en rating\n\nDeelnemers:\nTorenstadtoer
 nooi
CATEGORIES:Toernooien
LOCATION:De Uitwijk\, De Brink 116\, Zutphen\, Gelderland\, 7206 KD\, Neder
 land
X-APPLE-STRUCTURED-LOCATION;VALUE=URI;X-ADDRESS=De Brink 116\, Zutphen\, Ge
 lderland\, 7206 KD\, Nederland;X-APPLE-RADIUS=100;X-TITLE=De Uitwijk:geo:0
 ,0
END:VEVENT
BEGIN:VTIMEZONE
TZID:Europe/Amsterdam
X-LIC-LOCATION:Europe/Amsterdam
BEGIN:DAYLIGHT
DTSTART:20260329T030000
TZOFFSETFROM:+0100
TZOFFSETTO:+0200
TZNAME:CEST
END:DAYLIGHT
END:VTIMEZONE
END:VCALENDAR